BEGIN:VCALENDAR
VERSION:2.0
PRODID:-//pretix//pretix.eu//
BEGIN:VTIMEZONE
TZID:Europe/Berlin
BEGIN:STANDARD
DTSTART:20001029T040000
RRULE:FREQ=YEARLY;BYDAY=-1SU;BYMONTH=10
TZNAME:CET
TZOFFSETFROM:+0200
TZOFFSETTO:+0100
END:STANDARD
BEGIN:DAYLIGHT
DTSTART:20000326T030000
RRULE:FREQ=YEARLY;BYDAY=-1SU;BYMONTH=3
TZNAME:CEST
TZOFFSETFROM:+0100
TZOFFSETTO:+0200
END:DAYLIGHT
END:VTIMEZONE
BEGIN:VEVENT
UID:pretix-kab-kab2026-0@tickets.turbojugend-oberpoebel.de
DTSTART;TZID=Europe/Berlin:20260620T190000
DTEND;TZID=Europe/Berlin:20260620T200000
DESCRIPTION:Tickets: https://tickets.turbojugend-oberpoebel.de/kab2026/\nVe
 ranstalter: Turbojugend Oberpöbel e. V.
DTSTAMP:20260423T071208Z
LOCATION:Putzmühle - Oberpöbel
SUMMARY:Krach am Bach
END:VEVENT
END:VCALENDAR
